BEGIN:VCALENDAR
VERSION:2.0
PRODID:-//BAMBANDO - ECPv5.4.0//NONSGML v1.0//EN
CALSCALE:GREGORIAN
METHOD:PUBLISH
X-WR-CALNAME:BAMBANDO
X-ORIGINAL-URL:https://www.bambando.com
X-WR-CALDESC:Visitas para BAMBANDO
BEGIN:VTIMEZONE
TZID:Europe/Paris
BEGIN:DAYLIGHT
TZOFFSETFROM:+0100
TZOFFSETTO:+0200
TZNAME:CEST
DTSTART:20200329T010000
END:DAYLIGHT
BEGIN:STANDARD
TZOFFSETFROM:+0200
TZOFFSETTO:+0100
TZNAME:CET
DTSTART:20201025T010000
END:STANDARD
END:VTIMEZONE
BEGIN:VEVENT
DTSTART;TZID=Europe/Paris:20200926T200000
DTEND;TZID=Europe/Paris:20200926T213000
DTSTAMP:20260422T171244
CREATED:20200923T054115Z
LAST-MODIFIED:20200923T054115Z
UID:2218-1601150400-1601155800@www.bambando.com
SUMMARY:Na Violant d'Hongria\, primera reina de Castelló
DESCRIPTION:Na Violant d’Hongria fue la reina en la reconquista que emprendió el Rey Jaume I en el territorio de Castelló. De hecho\, su empeño fue decisivo en la fundación de la nueva ciudad. Una figura muy querida y venerada y una de las mujeres que sobresalió en la Edad Media por su sabiduría\, diplomacia política y saber hacer. De la mano de algunos de los habitantes de la villa y coetáneos\, conoceremos más de la vida de la reina que abandonó el centro de Europa para gobernar parte del Mediterráneo en el siglo XIII.  \nVisita indicada para público adulto  \nAforo máximo de 30  personas. Obligatorio el uso de mascarilla durante el recorrido y mantener la distancia interpersonal para cumplir con la actual normativa sanitaria. \nActividad promovida por el Ayuntamiento de Castellón. Más información en: folleto_turismo_castellon_verano_2020
URL:https://www.bambando.com/visita/na_violant_26092020/
LOCATION:Tourist Info de Castelló\, Plaza de la Hierba\, s/n\, Castelló de la Plana\, 12001
ATTACH;FMTTYPE=image/jpeg:https://www.bambando.com/wp-content/uploads/2020/09/representativa_naviolant.jpg
ORGANIZER;CN="Castell%C3%B3n%20Turismo":MAILTO:castellon@touristinfo.net
END:VEVENT
END:VCALENDAR