BEGIN:VCALENDAR
VERSION:2.0
PRODID:-//BAMBANDO - ECPv5.4.0//NONSGML v1.0//EN
CALSCALE:GREGORIAN
METHOD:PUBLISH
X-WR-CALNAME:BAMBANDO
X-ORIGINAL-URL:https://www.bambando.com
X-WR-CALDESC:Visitas para BAMBANDO
BEGIN:VTIMEZONE
TZID:Europe/Paris
BEGIN:DAYLIGHT
TZOFFSETFROM:+0100
TZOFFSETTO:+0200
TZNAME:CEST
DTSTART:20200329T010000
END:DAYLIGHT
BEGIN:STANDARD
TZOFFSETFROM:+0200
TZOFFSETTO:+0100
TZNAME:CET
DTSTART:20201025T010000
END:STANDARD
END:VTIMEZONE
BEGIN:VEVENT
DTSTART;TZID=Europe/Paris:20201015T180000
DTEND;TZID=Europe/Paris:20201015T193000
DTSTAMP:20260421T120651
CREATED:20201014T194519Z
LAST-MODIFIED:20201014T195219Z
UID:2271-1602784800-1602790200@www.bambando.com
SUMMARY:La herencia labradora dels ravals de Castelló
DESCRIPTION:VISITA TEATRALIZADA \nDesde el origen de Castelló\, la villa ha sido eminentemente labradora\, y aunque ya estamos en el S. XXI\, si nos fijamos bien\, podemos encontrar pistas de esa herencia de la agricultura de La Plana. Acompañados por dos labradores\, conoceremos los arrabales de Castelló\, sus Festes de Carrer\, la importancia de la acequia mayor\, los molinos y los cultivos más característicos de nuestra tierra. \nAforo máximo de 25  personas. Obligatorio el uso de mascarilla durante el recorrido y mantener la distancia interpersonal para cumplir con la actual normativa sanitaria. \nActividad promovida por el Ayuntamiento de Castellón. Más información en: página web de Turismo
URL:https://www.bambando.com/visita/la-herencia-labradora-dels-ravals-de-castello-v151020/
LOCATION:Tourist Info de Castelló\, Plaza de la Hierba\, s/n\, Castelló de la Plana\, 12001
ATTACH;FMTTYPE=image/jpeg:https://www.bambando.com/wp-content/uploads/2020/10/representativa_raval.jpg
ORGANIZER;CN="Castell%C3%B3n%20Turismo":MAILTO:castellon@touristinfo.net
END:VEVENT
END:VCALENDAR